Workbook

Sheet Overall term grades
A1: CPSC 203: winter 2063
A2: Student ID | B2: Faculty | C2: A1 | D2: A2 | E2: A3 | F2: Midterm | G2: Final | H2: Term GPA | I2: Term letter (Proposed) | J2: Term letter (Alternate)
A3: 111 | B3: Science | C3: 4 | D3: 4 | E3: 4 | F3: ='Midterm raw'!D2 -> 4 | G3: ='Final exam raw'!G2 -> 4
A4: 112 | B4: Social Sciences | C4: 3.3 | D4: 3.3 | E4: 3 | F4: ='Midterm raw'!D3 -> 0 | G4: ='Final exam raw'!G3 -> 1
A5: 113 | B5: Social Sciences | C5: 3 | D5: 3.3 | E5: 3.7 | F5: ='Midterm raw'!D4 -> 3.3 | G5: ='Final exam raw'!G4 -> 1
A6: 114 | B6: Management | C6: 4 | D6: 4 | E6: 4.3 | F6: ='Midterm raw'!D5 -> 4 | G6: ='Final exam raw'!G5 -> 0
A7: 115 | B7: Management | C7: 4 | D7: 4 | E7: 4 | F7: ='Midterm raw'!D6 -> 4 | G7: ='Final exam raw'!G6 -> 1.3
A8: 116 | B8: Management | C8: 3.3 | D8: 2.7 | E8: 3 | F8: ='Midterm raw'!D7 -> 2.3 | G8: ='Final exam raw'!G7 -> 1.7
A9: 117 | B9: Humanities | C9: 2.3 | D9: 3.3 | E9: 3 | F9: ='Midterm raw'!D8 -> 0 | G9: ='Final exam raw'!G8 -> 2.7
A10: 118 | B10: Social Sciences | C10: 3.3 | D10: 2.7 | E10: 3.3 | F10: ='Midterm raw'!D9 -> 2.3 | G10: ='Final exam raw'!G9 -> 0
A11: 119 | B11: Management | C11: 4.3 | D11: 1.7 | E11: 3.3 | F11: ='Midterm raw'!D10 -> 3.7 | G11: ='Final exam raw'!G10 -> 2.3
A12: 120 | B12: Management | C12: 4.3 | D12: 4 | E12: 3.7 | F12: ='Midterm raw'!D11 -> 2.7 | G12: ='Final exam raw'!G11 -> 3.3
A13: 121 | B13: Kinesiology | C13: 4.3 | D13: 4 | E13: 4 | F13: ='Midterm raw'!D12 -> 3.3 | G13: ='Final exam raw'!G12 -> 1.3
A14: 122 | B14: Management | D14: 3.3 | E14: 3 | F14: ='Midterm raw'!D13 -> 4 | G14: ='Final exam raw'!G13 -> 4
A15: 123 | B15: Management | C15: 4.3 | D15: 4 | E15: 4 | F15: ='Midterm raw'!D14 -> 3.7 | G15: ='Final exam raw'!G14 -> 1.7
A16: 124 | B16: Humanities | C16: 3 | D16: 2.7 | E16: 3 | F16: ='Midterm raw'!D15 -> 2.3 | G16: ='Final exam raw'!G15 -> 2.7
A17: 125 | B17: Science | C17: 2.3 | D17: 3.3 | E17: 3 | F17: ='Midterm raw'!D16 -> 1.3 | G17: ='Final exam raw'!G16 -> 0
A18: 126 | B18: Social Sciences | C18: 4 | D18: 3.7 | E18: 0 | F18: ='Midterm raw'!D17 -> 1 | G18: ='Final exam raw'!G17 -> 3.7
A19: 127 | B19: Social Sciences | C19: 3.7 | D19: 1.7 | E19: 3 | F19: ='Midterm raw'!D18 -> 0 | G19: ='Final exam raw'!G18 -> 3
A20: 128 | B20: Social Sciences | C20: 4 | D20: 4 | E20: 3.7 | F20: ='Midterm raw'!D19 -> 0 | G20: ='Final exam raw'!G19 -> 0
A21: 129 | B21: Management | C21: 4.3 | D21: 4.3 | F21: ='Midterm raw'!D20 -> 3 | G21: ='Final exam raw'!G20 -> 0
A22: 130 | B22: Social Sciences | C22: 2.3 | D22: 3 | E22: 3.3 | F22: ='Midterm raw'!D21 -> 2.7 | G22: ='Final exam raw'!G21 -> 2.3
A23: 131 | B23: Humanities | C23: 3 | D23: 3 | E23: 3.7 | F23: ='Midterm raw'!D22 -> 2.3 | G23: ='Final exam raw'!G22 -> 1.7
A24: 132 | B24: Kinesiology | C24: 2.7 | D24: 4 | E24: 3.7 | F24: ='Midterm raw'!D23 -> 0 | G24: ='Final exam raw'!G23 -> 2.7
A25: 133 | B25: Engineering | C25: 1 | D25: 1.3 | E25: 0 | F25: ='Midterm raw'!D24 -> 0 | G25: ='Final exam raw'!G24 -> 1
A26: 134 | B26: Social Sciences | C26: 2.7 | D26: 3.3 | E26: 1 | F26: ='Midterm raw'!D25 -> 0 | G26: ='Final exam raw'!G25 -> 1.3
A27: 135 | B27: Management | C27: 3 | D27: 2.7 | E27: 3 | F27: ='Midterm raw'!D26 -> 1.3 | G27: ='Final exam raw'!G26 -> 2.3
A28: 136 | B28: Management | C28: 4 | E28: 3.7 | F28: ='Midterm raw'!D27 -> 0 | G28: ='Final exam raw'!G27 -> 0
A29: 137 | B29: Social Sciences | C29: 3.3 | D29: 3.3 | E29: 3 | F29: ='Midterm raw'!D28 -> 1.7 | G29: ='Final exam raw'!G28 -> 2.3
A30: 138 | B30: Kinesiology | C30: 2.7 | D30: 3 | E30: 2.7 | F30: ='Midterm raw'!D29 -> 2.7 | G30: ='Final exam raw'!G29 -> 2
A31: 139 | B31: Science | C31: 2.3 | D31: 4 | E31: 2.3 | F31: ='Midterm raw'!D30 -> 0 | G31: ='Final exam raw'!G30 -> 3
A32: 140 | B32: Management | C32: 3 | D32: 3.7 | E32: 3.7 | F32: ='Midterm raw'!D31 -> 0 | G32: ='Final exam raw'!G31 -> 0
A33: 141 | B33: Management | C33: 2.7 | D33: 4 | E33: 4 | F33: ='Midterm raw'!D32 -> 4 | G33: ='Final exam raw'!G32 -> 0
A34: 142 | B34: Social Sciences | C34: 1 | D34: 1.3 | E34: 0 | F34: ='Midterm raw'!D33 -> 2.3 | G34: ='Final exam raw'!G33 -> 3.3
A35: 143 | B35: Social Sciences | C35: 2.7 | D35: 3.7 | E35: 1.3 | F35: ='Midterm raw'!D34 -> 1.3 | G35: ='Final exam raw'!G34 -> 0
A36: 144 | B36: Kinesiology | C36: 3 | D36: 3 | E36: 2.7 | F36: ='Midterm raw'!D35 -> 3 | G36: ='Final exam raw'!G35 -> 1.3
A37: 145 | B37: Humanities | C37: 3 | D37: 3.3 | E37: 2.7 | F37: ='Midterm raw'!D36 -> 0 | G37: ='Final exam raw'!G36 -> 1
A38: 146 | B38: Management | C38: 2.3 | D38: 4 | E38: 2.3 | F38: ='Midterm raw'!D37 -> 2 | G38: ='Final exam raw'!G37 -> 3.7
A39: 147 | B39: Management | C39: 3 | D39: 3.7 | E39: 3.3 | F39: ='Midterm raw'!D38 -> 0 | G39: ='Final exam raw'!G38 -> 3.3
A40: 148 | B40: Social Sciences | C40: 2.3 | D40: 3 | E40: 2.7 | F40: ='Midterm raw'!D39 -> 2.7 | G40: ='Final exam raw'!G39 -> 0
... A50: 158 | B50: Social Sciences | C50: 3.3 | D50: 2.7 | E50: 3 | F50: ='Midterm raw'!D49 -> 3 | G50: ='Final exam raw'!G49 -> 3

Sheet Cut offs
A1: Proposed grade point ranges | B1: Letter
A2: 4.3 and above | B2: A+
A3: 4 to less than 4.3 | B3: A
A4: 3.7 to less than 4 | B4: A-
A5: 3.3 to less than 3.7 | B5: B+
A6: 3 to less than 3.3 | B6: B
A7: 2.7 to less than 3 | B7: B-
A8: 2.3 to less than 2.7 | B8: C+
A9: 2 to less than 2.3 | B9: C
A10: 1.7 to less than 2 | B10: C-
A11: 1.3 to less than 1.7 | B11: D+
A12: 1 to less than 1.3 | B12: D
... A27: 0 to less than 0.7 | B27: F

Sheet Midterm raw
A1: Student ID | B1: Multiple choice score | C1: Percentage | D1: GPA
A2: 111 | B2: 40 | C2: 92.5 | D2: 4
A3: 112 | B3: 14 | C3: 35 | D3: 0
A4: 113 | B4: 35 | C4: 87.5 | D4: 3.3
A5: 114 | B5: 39 | C5: 97.5 | D5: 4
A6: 115 | B6: 38 | C6: 95 | D6: 4
A7: 116 | B7: 29 | C7: 72.5 | D7: 2.3
A8: 117 | B8: 7 | C8: 17.5 | D8: 0
A9: 118 | B9: 28 | C9: 70 | D9: 2.3
A10: 119 | B10: 37 | C10: 92.5 | D10: 3.7
A11: 120 | B11: 30 | C11: 75 | D11: 2.7
A12: 121 | B12: 34 | C12: 85 | D12: 3.3
A13: 122 | B13: 38 | C13: 95 | D13: 4
... A49: 158 | B49: 32 | C49: 80 | D49: 3

Sheet Final exam raw
A1: Student ID | B1: Multiple choice score | C1: SA1 | D1: SA2 | E1: Raw total | F1: Percentage | G1: GPA
A2: 111 | B2: 48 | C2: 10 | D2: 10 | E2: 68 | F2: 97.142857 | G2: 4
A3: 112 | B3: 21 | C3: 7 | D3: 0 | E3: 28 | F3: 40 | G3: 1
A4: 113 | B4: 27 | C4: 0 | D4: 4 | E4: 31 | F4: 44.285714 | G4: 1
A5: 114 | B5: 18 | C5: 2 | D5: 1 | E5: 21 | F5: 30 | G5: 0
A6: 115 | B6: 26 | C6: 6 | D6: 1 | E6: 33 | F6: 47.142857 | G6: 1.3
A7: 116 | B7: 26 | C7: 7 | D7: 2 | E7: 35 | F7: 50 | G7: 1.7
A8: 117 | B8: 39 | C8: 2 | D8: 8 | E8: 49 | F8: 70 | G8: 2.7
A9: 118 | B9: 13 | C9: 3 | D9: 1 | E9: 17 | F9: 24.285714 | G9: 0
A10: 119 | B10: 32 | C10: 4 | D10: 9 | E10: 45 | F10: 64.285714 | G10: 2.3
A11: 120 | B11: 46 | C11: 5 | D11: 5 | E11: 56 | F11: 80 | G11: 3.3
A12: 121 | B12: 28 | C12: 1 | D12: 3 | E12: 32 | F12: 45.714286 | G12: 1.3
A13: 122 | B13: 49 | C13: 9 | D13: 5 | E13: 63 | F13: 90 | G13: 4
... A49: 158 | B49: 43 | C49: 2 | D49: 9 | E49: 54 | F49: 77.142857 | G49: 3
