Workbook

Sheet Overall term grades
A1: CPSC 203: winter 2063
A2: Student ID | B2: Faculty | C2: A1 | D2: A2 | E2: A3 | F2: Midterm | G2: Final | H2: Term GPA | I2: Term letter (Proposed) | J2: Term letter (Alternate)
A3: 111 | B3: Science | C3: 4 | D3: 4 | E3: 4 | F3: ='Midterm I raw'!D2 -> 4 | G3: ='Final exam raw'!G2 -> 4
A4: 112 | B4: Social Sciences | C4: 3.3 | D4: 3.3 | E4: 3 | F4: ='Midterm I raw'!D3 -> 0 | G4: ='Final exam raw'!G3 -> 0
A5: 113 | B5: Social Sciences | C5: 3 | D5: 3.3 | E5: 3.7 | F5: ='Midterm I raw'!D4 -> 3.3 | G5: ='Final exam raw'!G4 -> 0
A6: 114 | B6: Management | C6: 4 | D6: 4 | E6: 4.3 | F6: ='Midterm I raw'!D5 -> 4 | G6: ='Final exam raw'!G5 -> 0
A7: 115 | B7: Management | C7: 4 | D7: 4 | E7: 4 | F7: ='Midterm I raw'!D6 -> 4 | G7: ='Final exam raw'!G6 -> 0
A8: 116 | B8: Management | C8: 3.3 | D8: 2.7 | E8: 3 | F8: ='Midterm I raw'!D7 -> 2.3 | G8: ='Final exam raw'!G7 -> 1
A9: 117 | B9: Humanities | C9: 2.3 | D9: 3.3 | E9: 3 | F9: ='Midterm I raw'!D8 -> 0 | G9: ='Final exam raw'!G8 -> 2.3
A10: 118 | B10: Social Sciences | C10: 3.3 | D10: 2.7 | E10: 3.3 | F10: ='Midterm I raw'!D9 -> 2.3 | G10: ='Final exam raw'!G9 -> 0
A11: 119 | B11: Management | C11: 4.3 | D11: 1.7 | E11: 3.3 | F11: ='Midterm I raw'!D10 -> 3.7 | G11: ='Final exam raw'!G10 -> 1.7
A12: 120 | B12: Management | C12: 4.3 | D12: 4 | E12: 3.7 | F12: ='Midterm I raw'!D11 -> 2.7 | G12: ='Final exam raw'!G11 -> 3
A13: 121 | B13: Kinesiology | C13: 4.3 | D13: 4 | E13: 4 | F13: ='Midterm I raw'!D12 -> 3.3 | G13: ='Final exam raw'!G12 -> 0
A14: 122 | B14: Management | C14: 4 | D14: 4 | E14: 4 | F14: ='Midterm I raw'!D13 -> 4 | G14: ='Final exam raw'!G13 -> 4
... A20: 128 | B20: Social Sciences | C20: 4 | D20: 4 | E20: 3.7 | F20: ='Midterm I raw'!D19 -> 0 | G20: ='Final exam raw'!G19 -> 0
A21: 129 | B21: Management | C21: 4.3 | D21: 4.3 | F21: ='Midterm I raw'!D20 -> 3 | G21: ='Final exam raw'!G20 -> 0
A22: 130 | B22: Social Sciences | C22: 2.3 | D22: 3 | E22: 3.3 | F22: ='Midterm I raw'!D21 -> 2.7 | G22: ='Final exam raw'!G21 -> 2
A23: 131 | B23: Humanities | C23: 3 | D23: 3 | E23: 3.7 | F23: ='Midterm I raw'!D22 -> 2.3 | G23: ='Final exam raw'!G22 -> 1
A24: 132 | B24: Kinesiology | C24: 2.7 | D24: 4 | E24: 3.7 | F24: ='Midterm I raw'!D23 -> 0 | G24: ='Final exam raw'!G23 -> 2.3
A25: 133 | B25: Engineering | C25: 1 | D25: 1.3 | E25: 0 | F25: ='Midterm I raw'!D24 -> 0 | G25: ='Final exam raw'!G24 -> 0
A26: 134 | B26: Social Sciences | C26: 2.7 | D26: 3.3 | E26: 1 | F26: ='Midterm I raw'!D25 -> 0 | G26: ='Final exam raw'!G25 -> 0
A27: 135 | B27: Management | C27: 3 | D27: 2.7 | E27: 3 | F27: ='Midterm I raw'!D26 -> 1.3 | G27: ='Final exam raw'!G26 -> 2
A28: 136 | B28: Management | C28: 4 | E28: 3.7 | F28: ='Midterm I raw'!D27 -> 0 | G28: ='Final exam raw'!G27 -> 0
A29: 137 | B29: Social Sciences | C29: 3.3 | D29: 3.3 | E29: 3 | F29: ='Midterm I raw'!D28 -> 1.7 | G29: ='Final exam raw'!G28 -> 2
A30: 138 | B30: Kinesiology | C30: 2.7 | D30: 3 | E30: 2.7 | F30: ='Midterm I raw'!D29 -> 2.7 | G30: ='Final exam raw'!G29 -> 1.3
A31: 139 | B31: Science | C31: 2.3 | D31: 4 | E31: 2.3 | F31: ='Midterm I raw'!D30 -> 0 | G31: ='Final exam raw'!G30 -> 2.7
A32: 140 | B32: Management | C32: 3 | D32: 3.7 | E32: 3.7 | F32: ='Midterm I raw'!D31 -> 0 | G32: ='Final exam raw'!G31 -> 0
A33: 141 | B33: Management | C33: 2.7 | D33: 4 | E33: 4 | F33: ='Midterm I raw'!D32 -> 4 | G33: ='Final exam raw'!G32 -> 0
A34: 142 | B34: Social Sciences | C34: 1 | D34: 1.3 | E34: 0 | F34: ='Midterm I raw'!D33 -> 2.3 | G34: ='Final exam raw'!G33 -> 3
A35: 143 | B35: Social Sciences | C35: 2.7 | D35: 3.7 | E35: 1.3 | F35: ='Midterm I raw'!D34 -> 4 | G35: ='Final exam raw'!G34 -> 4
A36: 144 | B36: Kinesiology | C36: 3 | D36: 3 | E36: 2.7 | F36: ='Midterm I raw'!D35 -> 3 | G36: ='Final exam raw'!G35 -> 0
A37: 145 | B37: Humanities | C37: 3 | D37: 3.3 | E37: 2.7 | F37: ='Midterm I raw'!D36 -> 0 | G37: ='Final exam raw'!G36 -> 0
A38: 146 | B38: Management | C38: 2.3 | D38: 4 | E38: 2.3 | F38: ='Midterm I raw'!D37 -> 2 | G38: ='Final exam raw'!G37 -> 3.3
A39: 147 | B39: Management | C39: 3 | D39: 3.7 | E39: 3.3 | F39: ='Midterm I raw'!D38 -> 0 | G39: ='Final exam raw'!G38 -> 3
A40: 148 | B40: Social Sciences | C40: 2.3 | D40: 3 | E40: 2.7 | F40: ='Midterm I raw'!D39 -> 2.7 | G40: ='Final exam raw'!G39 -> 0
... A50: 158 | B50: Social Sciences | C50: 3.3 | D50: 2.7 | E50: 3 | F50: ='Midterm I raw'!D49 -> 3 | G50: ='Final exam raw'!G49 -> 2.7

Sheet Cut offs

Sheet Midterm I raw
A1: Student ID | B1: Multiple choice score | C1: Percentage | D1: GPA | F1: Min percent | G1: Max percent | H1: GPA
A2: 111 | B2: 38 | C2: =B2/$B$50*100 -> 95 | D2: =LOOKUP(C2,$F$2:$F$12,$H$2:$H$12) -> 4 | F2: 0 | G2: 49 | H2: 0
A3: 112 | B3: 14 | C3: =B3/$B$50*100 -> 35 | D3: =LOOKUP(C3,$F$2:$F$12,$H$2:$H$12) -> 0 | F3: 50 | G3: 54 | H3: 1
A4: 113 | B4: 35 | C4: =B4/$B$50*100 -> 87.5 | D4: =LOOKUP(C4,$F$2:$F$12,$H$2:$H$12) -> 3.3 | F4: 55 | G4: 59 | H4: 1.3
A5: 114 | B5: 39 | C5: =B5/$B$50*100 -> 97.5 | D5: =LOOKUP(C5,$F$2:$F$12,$H$2:$H$12) -> 4 | F5: 60 | G5: 64 | H5: 1.7
A6: 115 | B6: 38 | C6: =B6/$B$50*100 -> 95 | D6: =LOOKUP(C6,$F$2:$F$12,$H$2:$H$12) -> 4 | F6: 65 | G6: 69 | H6: 2
A7: 116 | B7: 29 | C7: =B7/$B$50*100 -> 72.5 | D7: =LOOKUP(C7,$F$2:$F$12,$H$2:$H$12) -> 2.3 | F7: 70 | G7: 74 | H7: 2.3
A8: 117 | B8: 7 | C8: =B8/$B$50*100 -> 17.5 | D8: =LOOKUP(C8,$F$2:$F$12,$H$2:$H$12) -> 0 | F8: 75 | G8: 79 | H8: 2.7
A9: 118 | B9: 28 | C9: =B9/$B$50*100 -> 70 | D9: =LOOKUP(C9,$F$2:$F$12,$H$2:$H$12) -> 2.3 | F9: 80 | G9: 84 | H9: 3
A10: 119 | B10: 37 | C10: =B10/$B$50*100 -> 92.5 | D10: =LOOKUP(C10,$F$2:$F$12,$H$2:$H$12) -> 3.7 | F10: 85 | G10: 89 | H10: 3.3
A11: 120 | B11: 30 | C11: =B11/$B$50*100 -> 75 | D11: =LOOKUP(C11,$F$2:$F$12,$H$2:$H$12) -> 2.7 | F11: 90 | G11: 94 | H11: 3.7
A12: 121 | B12: 34 | C12: =B12/$B$50*100 -> 85 | D12: =LOOKUP(C12,$F$2:$F$12,$H$2:$H$12) -> 3.3 | F12: 95 | G12: 100 | H12: 4
A13: 122 | B13: 38 | C13: =B13/$B$50*100 -> 95 | D13: =LOOKUP(C13,$F$2:$F$12,$H$2:$H$12) -> 4
A14: 123 | B14: 37 | C14: =B14/$B$50*100 -> 92.5 | D14: =LOOKUP(C14,$F$2:$F$12,$H$2:$H$12) -> 3.7
A15: 124 | B15: 28 | C15: =B15/$B$50*100 -> 70 | D15: =LOOKUP(C15,$F$2:$F$12,$H$2:$H$12) -> 2.3
A16: 125 | B16: 23 | C16: =B16/$B$50*100 -> 57.5 | D16: =LOOKUP(C16,$F$2:$F$12,$H$2:$H$12) -> 1.3
A17: 126 | B17: 20 | C17: =B17/$B$50*100 -> 50 | D17: =LOOKUP(C17,$F$2:$F$12,$H$2:$H$12) -> 1
A18: 127 | B18: 7 | C18: =B18/$B$50*100 -> 17.5 | D18: =LOOKUP(C18,$F$2:$F$12,$H$2:$H$12) -> 0
A19: 128 | B19: 18 | C19: =B19/$B$50*100 -> 45 | D19: =LOOKUP(C19,$F$2:$F$12,$H$2:$H$12) -> 0
A20: 129 | B20: 32 | C20: =B20/$B$50*100 -> 80 | D20: =LOOKUP(C20,$F$2:$F$12,$H$2:$H$12) -> 3
A21: 130 | B21: 30 | C21: =B21/$B$50*100 -> 75 | D21: =LOOKUP(C21,$F$2:$F$12,$H$2:$H$12) -> 2.7
A22: 131 | B22: 29 | C22: =B22/$B$50*100 -> 72.5 | D22: =LOOKUP(C22,$F$2:$F$12,$H$2:$H$12) -> 2.3
A23: 132 | B23: 15 | C23: =B23/$B$50*100 -> 37.5 | D23: =LOOKUP(C23,$F$2:$F$12,$H$2:$H$12) -> 0
A24: 133 | B24: 11 | C24: =B24/$B$50*100 -> 27.5 | D24: =LOOKUP(C24,$F$2:$F$12,$H$2:$H$12) -> 0
... A49: 158 | B49: 32 | C49: =B49/$B$50*100 -> 80 | D49: =LOOKUP(C49,$F$2:$F$12,$H$2:$H$12) -> 3
A50: MAX | B50: 40 | C50: 100 | D50: 4

Sheet Midterm II raw
A1: Student ID | B1: Multiple choice score | C1: Percentage | D1: GPA | F1: Min percent | G1: Max percent | H1: GPA
A2: 111 | B2: 38 | C2: =B2/$B$50*100 -> 95 | D2: =LOOKUP(C2,$F$2:$F$12,$H$2:$H$12) -> 4 | F2: 0 | G2: 49 | H2: 0
A3: 112 | B3: 14 | C3: =B3/$B$50*100 -> 35 | D3: =LOOKUP(C3,$F$2:$F$12,$H$2:$H$12) -> 0 | F3: 50 | G3: 54 | H3: 1
A4: 113 | B4: 35 | C4: =B4/$B$50*100 -> 87.5 | D4: =LOOKUP(C4,$F$2:$F$12,$H$2:$H$12) -> 3.3 | F4: 55 | G4: 59 | H4: 1.3
A5: 114 | B5: 39 | C5: =B5/$B$50*100 -> 97.5 | D5: =LOOKUP(C5,$F$2:$F$12,$H$2:$H$12) -> 4 | F5: 60 | G5: 64 | H5: 1.7
A6: 115 | B6: 38 | C6: =B6/$B$50*100 -> 95 | D6: =LOOKUP(C6,$F$2:$F$12,$H$2:$H$12) -> 4 | F6: 65 | G6: 69 | H6: 2
A7: 116 | B7: 29 | C7: =B7/$B$50*100 -> 72.5 | D7: =LOOKUP(C7,$F$2:$F$12,$H$2:$H$12) -> 2.3 | F7: 70 | G7: 74 | H7: 2.3
A8: 117 | B8: 7 | C8: =B8/$B$50*100 -> 17.5 | D8: =LOOKUP(C8,$F$2:$F$12,$H$2:$H$12) -> 0 | F8: 75 | G8: 79 | H8: 2.7
A9: 118 | B9: 28 | C9: =B9/$B$50*100 -> 70 | D9: =LOOKUP(C9,$F$2:$F$12,$H$2:$H$12) -> 2.3 | F9: 80 | G9: 84 | H9: 3
A10: 119 | B10: 37 | C10: =B10/$B$50*100 -> 92.5 | D10: =LOOKUP(C10,$F$2:$F$12,$H$2:$H$12) -> 3.7 | F10: 85 | G10: 89 | H10: 3.3
A11: 120 | B11: 30 | C11: =B11/$B$50*100 -> 75 | D11: =LOOKUP(C11,$F$2:$F$12,$H$2:$H$12) -> 2.7 | F11: 90 | G11: 94 | H11: 3.7
A12: 121 | B12: 34 | C12: =B12/$B$50*100 -> 85 | D12: =LOOKUP(C12,$F$2:$F$12,$H$2:$H$12) -> 3.3 | F12: 95 | G12: 100 | H12: 4
A13: 122 | B13: 38 | C13: =B13/$B$50*100 -> 95 | D13: =LOOKUP(C13,$F$2:$F$12,$H$2:$H$12) -> 4
A14: 123 | B14: 37 | C14: =B14/$B$50*100 -> 92.5 | D14: =LOOKUP(C14,$F$2:$F$12,$H$2:$H$12) -> 3.7
A15: 124 | B15: 28 | C15: =B15/$B$50*100 -> 70 | D15: =LOOKUP(C15,$F$2:$F$12,$H$2:$H$12) -> 2.3
A16: 125 | B16: 23 | C16: =B16/$B$50*100 -> 57.5 | D16: =LOOKUP(C16,$F$2:$F$12,$H$2:$H$12) -> 1.3
A17: 126 | B17: 20 | C17: =B17/$B$50*100 -> 50 | D17: =LOOKUP(C17,$F$2:$F$12,$H$2:$H$12) -> 1
A18: 127 | B18: 7 | C18: =B18/$B$50*100 -> 17.5 | D18: =LOOKUP(C18,$F$2:$F$12,$H$2:$H$12) -> 0
A19: 128 | B19: 18 | C19: =B19/$B$50*100 -> 45 | D19: =LOOKUP(C19,$F$2:$F$12,$H$2:$H$12) -> 0
A20: 129 | B20: 32 | C20: =B20/$B$50*100 -> 80 | D20: =LOOKUP(C20,$F$2:$F$12,$H$2:$H$12) -> 3
A21: 130 | B21: 30 | C21: =B21/$B$50*100 -> 75 | D21: =LOOKUP(C21,$F$2:$F$12,$H$2:$H$12) -> 2.7
A22: 131 | B22: 29 | C22: =B22/$B$50*100 -> 72.5 | D22: =LOOKUP(C22,$F$2:$F$12,$H$2:$H$12) -> 2.3
A23: 132 | B23: 15 | C23: =B23/$B$50*100 -> 37.5 | D23: =LOOKUP(C23,$F$2:$F$12,$H$2:$H$12) -> 0
A24: 133 | B24: 11 | C24: =B24/$B$50*100 -> 27.5 | D24: =LOOKUP(C24,$F$2:$F$12,$H$2:$H$12) -> 0
... A49: 158 | B49: 32 | C49: =B49/$B$50*100 -> 80 | D49: =LOOKUP(C49,$F$2:$F$12,$H$2:$H$12) -> 3
A50: MAX | B50: 40 | C50: 100 | D50: 4

Sheet Final exam raw
A1: Student ID | B1: Multiple choice score | C1: SA1 | D1: SA2 | E1: Raw total | F1: Percentage | G1: GPA | J1: Min percent | K1: Max percent | L1: GPA
A2: 111 | B2: 49 | C2: 10 | D2: 10 | E2: =SUM(B2:D2) -> 69 | F2: =E2/$E$50*100 -> 98.571429 | G2: =LOOKUP(F2,$J$2:$J$12,$L$2:$L$12) -> 4 | J2: 0 | K2: 49 | L2: 0
A3: 112 | B3: 21 | C3: 7 | D3: 0 | E3: =SUM(B3:D3) -> 28 | F3: =E3/$E$50*100 -> 40 | G3: =LOOKUP(F3,$J$2:$J$12,$L$2:$L$12) -> 0 | J3: 50 | K3: 54 | L3: 1
A4: 113 | B4: 27 | C4: 0 | D4: 4 | E4: =SUM(B4:D4) -> 31 | F4: =E4/$E$50*100 -> 44.285714 | G4: =LOOKUP(F4,$J$2:$J$12,$L$2:$L$12) -> 0 | J4: 55 | K4: 59 | L4: 1.3
A5: 114 | B5: 18 | C5: 2 | D5: 1 | E5: =SUM(B5:D5) -> 21 | F5: =E5/$E$50*100 -> 30 | G5: =LOOKUP(F5,$J$2:$J$12,$L$2:$L$12) -> 0 | J5: 60 | K5: 64 | L5: 1.7
A6: 115 | B6: 26 | C6: 6 | D6: 1 | E6: =SUM(B6:D6) -> 33 | F6: =E6/$E$50*100 -> 47.142857 | G6: =LOOKUP(F6,$J$2:$J$12,$L$2:$L$12) -> 0 | J6: 65 | K6: 69 | L6: 2
A7: 116 | B7: 26 | C7: 7 | D7: 2 | E7: =SUM(B7:D7) -> 35 | F7: =E7/$E$50*100 -> 50 | G7: =LOOKUP(F7,$J$2:$J$12,$L$2:$L$12) -> 1 | J7: 70 | K7: 74 | L7: 2.3
A8: 117 | B8: 39 | C8: 2 | D8: 8 | E8: =SUM(B8:D8) -> 49 | F8: =E8/$E$50*100 -> 70 | G8: =LOOKUP(F8,$J$2:$J$12,$L$2:$L$12) -> 2.3 | J8: 75 | K8: 79 | L8: 2.7
A9: 118 | B9: 13 | C9: 3 | D9: 1 | E9: =SUM(B9:D9) -> 17 | F9: =E9/$E$50*100 -> 24.285714 | G9: =LOOKUP(F9,$J$2:$J$12,$L$2:$L$12) -> 0 | J9: 80 | K9: 84 | L9: 3
A10: 119 | B10: 32 | C10: 4 | D10: 9 | E10: =SUM(B10:D10) -> 45 | F10: =E10/$E$50*100 -> 64.285714 | G10: =LOOKUP(F10,$J$2:$J$12,$L$2:$L$12) -> 1.7 | J10: 85 | K10: 89 | L10: 3.3
A11: 120 | B11: 46 | C11: 5 | D11: 5 | E11: =SUM(B11:D11) -> 56 | F11: =E11/$E$50*100 -> 80 | G11: =LOOKUP(F11,$J$2:$J$12,$L$2:$L$12) -> 3 | J11: 90 | K11: 94 | L11: 3.7
A12: 121 | B12: 28 | C12: 1 | D12: 3 | E12: =SUM(B12:D12) -> 32 | F12: =E12/$E$50*100 -> 45.714286 | G12: =LOOKUP(F12,$J$2:$J$12,$L$2:$L$12) -> 0 | J12: 95 | K12: 100 | L12: 4
A13: 122 | B13: 49 | C13: 9 | D13: 9 | E13: =SUM(B13:D13) -> 67 | F13: =E13/$E$50*100 -> 95.714286 | G13: =LOOKUP(F13,$J$2:$J$12,$L$2:$L$12) -> 4
A14: 123 | B14: 24 | C14: 7 | D14: 7 | E14: =SUM(B14:D14) -> 38 | F14: =E14/$E$50*100 -> 54.285714 | G14: =LOOKUP(F14,$J$2:$J$12,$L$2:$L$12) -> 1
A15: 124 | B15: 34 | C15: 5 | D15: 10 | E15: =SUM(B15:D15) -> 49 | F15: =E15/$E$50*100 -> 70 | G15: =LOOKUP(F15,$J$2:$J$12,$L$2:$L$12) -> 2.3
A16: 125 | B16: 11 | C16: 5 | D16: 2 | E16: =SUM(B16:D16) -> 18 | F16: =E16/$E$50*100 -> 25.714286 | G16: =LOOKUP(F16,$J$2:$J$12,$L$2:$L$12) -> 0
A17: 126 | B17: 49 | C17: 10 | D17: 3 | E17: =SUM(B17:D17) -> 62 | F17: =E17/$E$50*100 -> 88.571429 | G17: =LOOKUP(F17,$J$2:$J$12,$L$2:$L$12) -> 3.3
A18: 127 | B18: 40 | C18: 9 | D18: 4 | E18: =SUM(B18:D18) -> 53 | F18: =E18/$E$50*100 -> 75.714286 | G18: =LOOKUP(F18,$J$2:$J$12,$L$2:$L$12) -> 2.7
A19: 128 | B19: 11 | C19: 7 | D19: 1 | E19: =SUM(B19:D19) -> 19 | F19: =E19/$E$50*100 -> 27.142857 | G19: =LOOKUP(F19,$J$2:$J$12,$L$2:$L$12) -> 0
A20: 129 | B20: 10 | C20: 6 | D20: 9 | E20: =SUM(B20:D20) -> 25 | F20: =E20/$E$50*100 -> 35.714286 | G20: =LOOKUP(F20,$J$2:$J$12,$L$2:$L$12) -> 0
A21: 130 | B21: 31 | C21: 10 | D21: 5 | E21: =SUM(B21:D21) -> 46 | F21: =E21/$E$50*100 -> 65.714286 | G21: =LOOKUP(F21,$J$2:$J$12,$L$2:$L$12) -> 2
A22: 131 | B22: 24 | C22: 8 | D22: 5 | E22: =SUM(B22:D22) -> 37 | F22: =E22/$E$50*100 -> 52.857143 | G22: =LOOKUP(F22,$J$2:$J$12,$L$2:$L$12) -> 1
A23: 132 | B23: 38 | C23: 9 | D23: 2 | E23: =SUM(B23:D23) -> 49 | F23: =E23/$E$50*100 -> 70 | G23: =LOOKUP(F23,$J$2:$J$12,$L$2:$L$12) -> 2.3
A24: 133 | B24: 21 | C24: 10 | D24: 0 | E24: =SUM(B24:D24) -> 31 | F24: =E24/$E$50*100 -> 44.285714 | G24: =LOOKUP(F24,$J$2:$J$12,$L$2:$L$12) -> 0
... A49: 158 | B49: 43 | C49: 2 | D49: 9 | E49: =SUM(B49:D49) -> 54 | F49: =E49/$E$50*100 -> 77.142857 | G49: =LOOKUP(F49,$J$2:$J$12,$L$2:$L$12) -> 2.7
A50: MAX | B50: 50 | C50: 10 | D50: 10 | E50: 70 | F50: 100 | G50: =LOOKUP(F50,$J$2:$J$12,$L$2:$L$13) -> 4
